BEGIN:VCALENDAR
VERSION:2.0
PRODID:-//Ezer Év Parkja - ECPv5.0.3.1//NONSGML v1.0//EN
CALSCALE:GREGORIAN
METHOD:PUBLISH
X-WR-CALNAME:Ezer Év Parkja
X-ORIGINAL-URL:https://ezerevparkja.hu
X-WR-CALDESC:Events for Ezer Év Parkja
BEGIN:VTIMEZONE
TZID:Europe/Budapest
BEGIN:DAYLIGHT
TZOFFSETFROM:+0100
TZOFFSETTO:+0200
TZNAME:CEST
DTSTART:20260329T010000
END:DAYLIGHT
BEGIN:STANDARD
TZOFFSETFROM:+0200
TZOFFSETTO:+0100
TZNAME:CET
DTSTART:20261025T010000
END:STANDARD
END:VTIMEZONE
BEGIN:VEVENT
DTSTART;TZID=Europe/Budapest:20260405T100000
DTEND;TZID=Europe/Budapest:20260406T180000
DTSTAMP:20260425T124150
CREATED:20260316T165105Z
LAST-MODIFIED:20260316T165106Z
UID:11745-1775383200-1775498400@ezerevparkja.hu
SUMMARY:Húsvét az Ezer Év Parkjában
DESCRIPTION:\n\n\n \n\n\n\n \n\n\n\n🐰🥚🎨 Húsvét napjain is sok szeretettel és élményekkel várjuk a családokat: Többek között vidám tojásvadászattal\, állatsimogatóval\, kézműves foglalkozásokkal\, népi fajátékokkal\, réteskóstolóval\, néptánccal\, nosztalgiafotózással és számos más érdekességgel is kedveskedünk a számotokra. Minden további részletért lásd: \n\n\n\n\n\n\n\n \n\n\n\n\n\n\n
URL:https://ezerevparkja.hu/esemeny/husvet-az-ezer-ev-parkjaban/
ATTACH;FMTTYPE=image/jpeg:https://ezerevparkja.hu/wp-content/uploads/2026/03/Húsvét-plakát-A_4.-online-v1-scaled.jpg
END:VEVENT
BEGIN:VEVENT
DTSTART;TZID=Europe/Budapest:20260425T070000
DTEND;TZID=Europe/Budapest:20260425T170000
DTSTAMP:20260425T124150
CREATED:20260409T125743Z
LAST-MODIFIED:20260409T125743Z
UID:11783-1777100400-1777136400@ezerevparkja.hu
SUMMARY:I. Mórahalmi Bivalyfutás
DESCRIPTION:\n\n\n \n\n\n\nA túra lebonyolításában az Ezer Év Parkja központi segítséget nyújt és minden további információ a csatolt plakáton olvasható: \n\n\n\n2026. április 25-én\, szombat napján az Ezer Év Parkja előtere az I. Mórahalmi Bivalyfutás túrájának lesz a központja. A program lényegét a természetközeliség\, a kultúra és az egészség szentháromsága képezi\, amelynek keretei között gyalogosan\, kerékpárral és görkorcsolyával vagy rollerrel is meg lehet tenni az előre meghatározott távot. \n\n\n\n\n\n\n\n\n\n\n\n\n\n\n
URL:https://ezerevparkja.hu/esemeny/i-morahalmi-bivalyfutas/
ATTACH;FMTTYPE=image/jpeg:https://ezerevparkja.hu/wp-content/uploads/2026/04/Bivalyfutam_plakat-1.jpg
END:VEVENT
BEGIN:VEVENT
DTSTART;TZID=Europe/Budapest:20260501T100000
DTEND;TZID=Europe/Budapest:20260501T180000
DTSTAMP:20260425T124150
CREATED:20260414T103034Z
LAST-MODIFIED:20260414T103539Z
UID:11814-1777629600-1777658400@ezerevparkja.hu
SUMMARY:Majális az Ezer Év Parkjában
DESCRIPTION:\n\n\n☀️📣 Parkunk majálisa élményalapú\, egész napos családi kikapcsolódással vár Benneteket: Buborék show\, kézműves foglalkozások\, kiállítások\, nosztalgiafotózás és korhű ruhás beöltözések teszik élménydússá a napot.  \n\n\n\nKülön felhívjuk a figyelmet\, hogy 10-18 óra között az újonnan megnyitott „Horthy Miklós és kora” időszaki kiállítás megtekintése is biztosított. A beltéri installációhoz 11:30 és 16:00 kezdéssel előadások indulnak\, amelyek a korszak vitatott kérdéseit mindenki számára izgalmas módon mutatják be. \n\n\n\n\n\n\n\nKedvezmények: \n\n\n\nMórahalmiak városkártyával ingyenes látogathatják a Parkot.Pedagógusigazolvánnyal érkezettek részére 50%-os kedvezményt biztosítunk.TuliPengővel érkezettek részére 20%-os kedvezményt biztosítunk.Fürdő belépő blokkal érkezettek részére 20%-os kedvezményt biztosítunk.\n\n\n\nKiegészítő információk: \n\n\n\nAz intézmény család\,- kerékpáros\,- és állatbarát szolgáltató.\n\n\n\nJegyárak:  \n\n\n\n\nNyitvatartás\, jegyárak\, szolgáltatások\n\n\n\n\n\n\n\n\n\n\n\n
URL:https://ezerevparkja.hu/esemeny/majalis-az-ezer-ev-parkjaban-2/
ATTACH;FMTTYPE=image/jpeg:https://ezerevparkja.hu/wp-content/uploads/2026/04/Majális-plakát-A_4.-online-v1-scaled.jpg
END:VEVENT
END:VCALENDAR